BEGIN:VCALENDAR
VERSION:2.0
PRODID:-//HSMAI Global - ECPv6.15.20//NONSGML v1.0//EN
CALSCALE:GREGORIAN
METHOD:PUBLISH
X-ORIGINAL-URL:https://global.hsmai.org
X-WR-CALDESC:Events for HSMAI Global
REFRESH-INTERVAL;VALUE=DURATION:PT1H
X-Robots-Tag:noindex
X-PUBLISHED-TTL:PT1H
BEGIN:VTIMEZONE
TZID:America/New_York
BEGIN:DAYLIGHT
TZOFFSETFROM:-0500
TZOFFSETTO:-0400
TZNAME:EDT
DTSTART:20240310T070000
END:DAYLIGHT
BEGIN:STANDARD
TZOFFSETFROM:-0400
TZOFFSETTO:-0500
TZNAME:EST
DTSTART:20241103T060000
END:STANDARD
BEGIN:DAYLIGHT
TZOFFSETFROM:-0500
TZOFFSETTO:-0400
TZNAME:EDT
DTSTART:20250309T070000
END:DAYLIGHT
BEGIN:STANDARD
TZOFFSETFROM:-0400
TZOFFSETTO:-0500
TZNAME:EST
DTSTART:20251102T060000
END:STANDARD
BEGIN:DAYLIGHT
TZOFFSETFROM:-0500
TZOFFSETTO:-0400
TZNAME:EDT
DTSTART:20260308T070000
END:DAYLIGHT
BEGIN:STANDARD
TZOFFSETFROM:-0400
TZOFFSETTO:-0500
TZNAME:EST
DTSTART:20261101T060000
END:STANDARD
BEGIN:DAYLIGHT
TZOFFSETFROM:-0500
TZOFFSETTO:-0400
TZNAME:EDT
DTSTART:20270314T070000
END:DAYLIGHT
BEGIN:STANDARD
TZOFFSETFROM:-0400
TZOFFSETTO:-0500
TZNAME:EST
DTSTART:20271107T060000
END:STANDARD
END:VTIMEZONE
BEGIN:VTIMEZONE
TZID:UTC
BEGIN:STANDARD
TZOFFSETFROM:+0000
TZOFFSETTO:+0000
TZNAME:UTC
DTSTART:20230101T000000
END:STANDARD
END:VTIMEZONE
BEGIN:VEVENT
DTSTART;VALUE=DATE:20260218
DTEND;VALUE=DATE:20260219
DTSTAMP:20260421T082623
CREATED:20251120T034141Z
LAST-MODIFIED:20260218T154311Z
UID:10001889-1771372800-1771459199@global.hsmai.org
SUMMARY:Adrian Awards Celebration
DESCRIPTION:[vc_row][vc_column][vc_column_text css=””] \nAdrian Awards Celebration\nNew York Marriott Marquis\nNew York City\, New York \n3:00 – 5:30 – Registration\n​3:30 – 4:30 – Top 25 Reception (Invitation Only)\n4:30 – 5:30 – Red Carpet Arrivals\n5:30 – 7:00 – Awards Ceremony\n7:00 – 9:00 – Dinner Reception \nAttendees are invited to take advantage of a negotiated rate at the celebration location\, the New York Marriott Marquis.\nClick here to book – rate cut off date is January 28\, 2026.[/vc_column_text][/vc_column][/vc_row]
URL:https://global.hsmai.org/event/adrian-awards-celebration/
LOCATION:New York City\, NY\, 3 New York Plz\, United States
CATEGORIES:Nationalevents
END:VEVENT
BEGIN:VEVENT
DTSTART;TZID=America/New_York:20251217T110000
DTEND;TZID=America/New_York:20251217T120000
DTSTAMP:20260421T082623
CREATED:20251002T221253Z
LAST-MODIFIED:20251217T074336Z
UID:10001871-1765969200-1765972800@global.hsmai.org
SUMMARY:Certified in Hospitality Business Acumen
DESCRIPTION:Our Certified in Hospitality Business Acumen (CHBA) instructor‑led course\, runs November 19 – December 17\, 2025 from 11am ET – 12pm ET.\nThrough a competitive hotel simulation\, e-learning\, and expert-led discussions\, participants will gain the financial\, leadership\, and operational insights that today’s owners and teams expect.\n🔹 5 weeks\n🔹 11am ET\n🔹 100% online\n🔹 $625 (HSMAI members & non-members)\n🔹 Registration closes Nov 5 \nWhy this matters:\nToday’s hotel execs are expected to deliver not just operational excellence but strategic financial leadership. The CHBA certification proves you’ve mastered both. It gives you credibility with owners\, asset managers\, and across your team\, showing you’re not just doing things right but doing the right things. \nClick for details: https://lnkd.in/emkmmyeZ
URL:https://global.hsmai.org/event/certified-in-hospitality-business-acumen-5/
LOCATION:Online Web Series\, NA
CATEGORIES:Classes,Nationalevents
END:VEVENT
BEGIN:VEVENT
DTSTART;TZID=America/New_York:20251210T110000
DTEND;TZID=America/New_York:20251210T120000
DTSTAMP:20260421T082623
CREATED:20251002T221252Z
LAST-MODIFIED:20251210T065900Z
UID:10001870-1765364400-1765368000@global.hsmai.org
SUMMARY:Certified in Hospitality Business Acumen
DESCRIPTION:Our Certified in Hospitality Business Acumen (CHBA) instructor‑led course\, runs November 19 – December 17\, 2025 from 11am ET – 12pm ET.\nThrough a competitive hotel simulation\, e-learning\, and expert-led discussions\, participants will gain the financial\, leadership\, and operational insights that today’s owners and teams expect.\n🔹 5 weeks\n🔹 11am ET\n🔹 100% online\n🔹 $625 (HSMAI members & non-members)\n🔹 Registration closes Nov 5 \nWhy this matters:\nToday’s hotel execs are expected to deliver not just operational excellence but strategic financial leadership. The CHBA certification proves you’ve mastered both. It gives you credibility with owners\, asset managers\, and across your team\, showing you’re not just doing things right but doing the right things. \nClick for details: https://lnkd.in/emkmmyeZ
URL:https://global.hsmai.org/event/certified-in-hospitality-business-acumen-4/
LOCATION:Online Web Series\, NA
CATEGORIES:Classes,Nationalevents
END:VEVENT
BEGIN:VEVENT
DTSTART;TZID=America/New_York:20251203T110000
DTEND;TZID=America/New_York:20251203T120000
DTSTAMP:20260421T082623
CREATED:20251002T221252Z
LAST-MODIFIED:20251203T055824Z
UID:10001869-1764759600-1764763200@global.hsmai.org
SUMMARY:Certified in Hospitality Business Acumen
DESCRIPTION:Our Certified in Hospitality Business Acumen (CHBA) instructor‑led course\, runs November 19 – December 17\, 2025 from 11am ET – 12pm ET.\nThrough a competitive hotel simulation\, e-learning\, and expert-led discussions\, participants will gain the financial\, leadership\, and operational insights that today’s owners and teams expect.\n🔹 5 weeks\n🔹 11am ET\n🔹 100% online\n🔹 $625 (HSMAI members & non-members)\n🔹 Registration closes Nov 5 \nWhy this matters:\nToday’s hotel execs are expected to deliver not just operational excellence but strategic financial leadership. The CHBA certification proves you’ve mastered both. It gives you credibility with owners\, asset managers\, and across your team\, showing you’re not just doing things right but doing the right things. \nClick for details: https://lnkd.in/emkmmyeZ
URL:https://global.hsmai.org/event/certified-in-hospitality-business-acumen-3/
LOCATION:Online Web Series\, NA
CATEGORIES:Classes,Nationalevents
END:VEVENT
BEGIN:VEVENT
DTSTART;TZID=America/New_York:20251126T110000
DTEND;TZID=America/New_York:20251126T120000
DTSTAMP:20260421T082623
CREATED:20251002T221251Z
LAST-MODIFIED:20251126T045755Z
UID:10001868-1764154800-1764158400@global.hsmai.org
SUMMARY:Certified in Hospitality Business Acumen
DESCRIPTION:Our Certified in Hospitality Business Acumen (CHBA) instructor‑led course\, runs November 19 – December 17\, 2025 from 11am ET – 12pm ET.\nThrough a competitive hotel simulation\, e-learning\, and expert-led discussions\, participants will gain the financial\, leadership\, and operational insights that today’s owners and teams expect.\n🔹 5 weeks\n🔹 11am ET\n🔹 100% online\n🔹 $625 (HSMAI members & non-members)\n🔹 Registration closes Nov 5 \nWhy this matters:\nToday’s hotel execs are expected to deliver not just operational excellence but strategic financial leadership. The CHBA certification proves you’ve mastered both. It gives you credibility with owners\, asset managers\, and across your team\, showing you’re not just doing things right but doing the right things. \nClick for details: https://lnkd.in/emkmmyeZ
URL:https://global.hsmai.org/event/certified-in-hospitality-business-acumen-2/
LOCATION:Online Web Series\, NA
CATEGORIES:Classes,Nationalevents
END:VEVENT
BEGIN:VEVENT
DTSTART;TZID=America/New_York:20251119T110000
DTEND;TZID=America/New_York:20251119T120000
DTSTAMP:20260421T082623
CREATED:20250917T200053Z
LAST-MODIFIED:20251119T032958Z
UID:10001856-1763550000-1763553600@global.hsmai.org
SUMMARY:Certified in Hospitality Business Acumen
DESCRIPTION:Our Certified in Hospitality Business Acumen (CHBA) instructor‑led course\, runs November 19 – December 17\, 2025 from 11am ET – 12pm ET.\nThrough a competitive hotel simulation\, e-learning\, and expert-led discussions\, participants will gain the financial\, leadership\, and operational insights that today’s owners and teams expect.\n🔹 5 weeks\n🔹 11am ET\n🔹 100% online\n🔹 $625 (HSMAI members & non-members)\n🔹 Registration closes Nov 5 \nWhy this matters:\nToday’s hotel execs are expected to deliver not just operational excellence but strategic financial leadership. The CHBA certification proves you’ve mastered both. It gives you credibility with owners\, asset managers\, and across your team\, showing you’re not just doing things right but doing the right things. \nClick for details: https://lnkd.in/emkmmyeZ
URL:https://global.hsmai.org/event/certified-in-hospitality-business-acumen/
LOCATION:Online Web Series\, NA
CATEGORIES:Classes,Nationalevents
END:VEVENT
BEGIN:VEVENT
DTSTART;VALUE=DATE:20251111
DTEND;VALUE=DATE:20251223
DTSTAMP:20260421T082623
CREATED:20250923T205937Z
LAST-MODIFIED:20251111T024333Z
UID:10001863-1762819200-1766447999@global.hsmai.org
SUMMARY:Hotel Revenue Optimization Essentials
DESCRIPTION:Hotel Revenue Optimization Essentials
URL:https://global.hsmai.org/event/hotel-revenue-optimization-essentials-65/
LOCATION:Online Web Series\, NA
CATEGORIES:Nationalevents
END:VEVENT
BEGIN:VEVENT
DTSTART;VALUE=DATE:20250916
DTEND;VALUE=DATE:20251028
DTSTAMP:20260421T082623
CREATED:20250729T132845Z
LAST-MODIFIED:20250916T194236Z
UID:10001826-1757980800-1761609599@global.hsmai.org
SUMMARY:Hotel Digital Marketing Essentials
DESCRIPTION:Hotel Digital Marketing Essentials
URL:https://global.hsmai.org/event/hotel-digital-marketing-essentials-48/
LOCATION:Online Web Series\, NA
CATEGORIES:Nationalevents
END:VEVENT
BEGIN:VEVENT
DTSTART;VALUE=DATE:20250909
DTEND;VALUE=DATE:20251021
DTSTAMP:20260421T082623
CREATED:20250722T123144Z
LAST-MODIFIED:20250909T191334Z
UID:10001821-1757376000-1761004799@global.hsmai.org
SUMMARY:Hotel Revenue Optimization Essentials
DESCRIPTION:Hotel Revenue Optimization Essentials
URL:https://global.hsmai.org/event/hotel-revenue-optimization-essentials-64/
LOCATION:Online Web Series\, NA
CATEGORIES:Nationalevents
END:VEVENT
BEGIN:VEVENT
DTSTART;VALUE=DATE:20250617
DTEND;VALUE=DATE:20250618
DTSTAMP:20260421T082623
CREATED:20250319T172905Z
LAST-MODIFIED:20250617T064404Z
UID:10001698-1750118400-1750204799@global.hsmai.org
SUMMARY:HSMAI Commercial Strategy Conference
DESCRIPTION:HSMAI Commercial Strategy Conference
URL:https://global.hsmai.org/event/hsmai-commercial-strategy-conference-2/
LOCATION:Indianapolis\, IN
CATEGORIES:Nationalevents
END:VEVENT
BEGIN:VEVENT
DTSTART;VALUE=DATE:20250616
DTEND;VALUE=DATE:20250617
DTSTAMP:20260421T082623
CREATED:20250326T184246Z
LAST-MODIFIED:20250616T062846Z
UID:10001709-1750032000-1750118399@global.hsmai.org
SUMMARY:Partner Insights Workshops
DESCRIPTION:Partner Insights Workshops are 50-minute sessions designed to help you make the most of your travel to Indianapolis. They offer an extra 1/2 day of learning brought to you by HSMAIu2019s partners.
URL:https://global.hsmai.org/event/partner-insights-workshops-2/
LOCATION:Indianapolis\, IN
CATEGORIES:Nationalevents
END:VEVENT
BEGIN:VEVENT
DTSTART;VALUE=DATE:20250616
DTEND;VALUE=DATE:20250617
DTSTAMP:20260421T082623
CREATED:20250318T173002Z
LAST-MODIFIED:20250616T062845Z
UID:10001694-1750032000-1750118399@global.hsmai.org
SUMMARY:CHDM Review Course
DESCRIPTION:Come to Indianapolis and leave with your CHDM certification
URL:https://global.hsmai.org/event/chdm-review-course-11/
LOCATION:Indianapolis\, IN
CATEGORIES:Nationalevents
END:VEVENT
BEGIN:VEVENT
DTSTART;VALUE=DATE:20250616
DTEND;VALUE=DATE:20250617
DTSTAMP:20260421T082623
CREATED:20250318T173002Z
LAST-MODIFIED:20250616T062845Z
UID:10001695-1750032000-1750118399@global.hsmai.org
SUMMARY:CRME Review Course
DESCRIPTION:Come to Indianapolis and leave with your CRME certification
URL:https://global.hsmai.org/event/crme-review-course-10/
LOCATION:Indianapolis\, IN
CATEGORIES:Nationalevents
END:VEVENT
BEGIN:VEVENT
DTSTART;VALUE=DATE:20250616
DTEND;VALUE=DATE:20250617
DTSTAMP:20260421T082623
CREATED:20250318T173002Z
LAST-MODIFIED:20250616T062845Z
UID:10001696-1750032000-1750118399@global.hsmai.org
SUMMARY:CHSL Review Course
DESCRIPTION:Come to Indianapolis and leave with your CHSL certification
URL:https://global.hsmai.org/event/chsl-review-course-2/
LOCATION:Indianapolis\, IN
CATEGORIES:Nationalevents
END:VEVENT
BEGIN:VEVENT
DTSTART;VALUE=DATE:20250415
DTEND;VALUE=DATE:20250527
DTSTAMP:20260421T082623
CREATED:20250225T151424Z
LAST-MODIFIED:20250415T214204Z
UID:10001670-1744675200-1748303999@global.hsmai.org
SUMMARY:Hotel Revenue Optimization Essentials
DESCRIPTION:Hotel Revenue Optimization Essentials
URL:https://global.hsmai.org/event/hotel-revenue-optimization-essentials-63/
LOCATION:Online Web Series\, NA
CATEGORIES:Nationalevents
END:VEVENT
BEGIN:VEVENT
DTSTART;VALUE=DATE:20250415
DTEND;VALUE=DATE:20250527
DTSTAMP:20260421T082623
CREATED:20250225T151422Z
LAST-MODIFIED:20250415T214158Z
UID:10001668-1744675200-1748303999@global.hsmai.org
SUMMARY:Hotel Digital Marketing Essentials
DESCRIPTION:Hotel Digital Marketing Essentials
URL:https://global.hsmai.org/event/hotel-digital-marketing-essentials-47/
LOCATION:Online Web Series\, NA
CATEGORIES:Nationalevents
END:VEVENT
BEGIN:VEVENT
DTSTART;VALUE=DATE:20250218
DTEND;VALUE=DATE:20250219
DTSTAMP:20260421T082623
CREATED:20241120T204533Z
LAST-MODIFIED:20250218T135955Z
UID:10001581-1739836800-1739923199@global.hsmai.org
SUMMARY:Adrian Awards Celebration 2024
DESCRIPTION:Adrian Awards Celebration 2024 at the New York Marriott Marquis
URL:https://global.hsmai.org/event/adrian-awards-celebration-2024/
LOCATION:New York\, NY\, United States
CATEGORIES:Nationalevents
END:VEVENT
BEGIN:VEVENT
DTSTART;VALUE=DATE:20250211
DTEND;VALUE=DATE:20250325
DTSTAMP:20260421T082623
CREATED:20250115T072831Z
LAST-MODIFIED:20250211T130009Z
UID:10001645-1739232000-1742860799@global.hsmai.org
SUMMARY:Hotel Revenue Optimization Essentials
DESCRIPTION:Hotel Revenue Optimization Essentials
URL:https://global.hsmai.org/event/hotel-revenue-optimization-essentials-62/
LOCATION:Online Web Series\, NA
CATEGORIES:Nationalevents
END:VEVENT
BEGIN:VEVENT
DTSTART;VALUE=DATE:20241113
DTEND;VALUE=DATE:20241114
DTSTAMP:20260421T082623
CREATED:20240815T045846Z
LAST-MODIFIED:20241113T194058Z
UID:10001515-1731456000-1731542399@global.hsmai.org
SUMMARY:Sales Leader Forum
DESCRIPTION:Advance | Elevate | Evolve
URL:https://global.hsmai.org/event/sales-leader-forum-9/
LOCATION:Washington\, DC\, United States
CATEGORIES:Nationalevents
END:VEVENT
BEGIN:VEVENT
DTSTART;VALUE=DATE:20241112
DTEND;VALUE=DATE:20241217
DTSTAMP:20260421T082623
CREATED:20240917T104504Z
LAST-MODIFIED:20241112T193023Z
UID:10001552-1731369600-1734393599@global.hsmai.org
SUMMARY:Hotel Revenue Optimization Essentials
DESCRIPTION:Hotel Revenue Optimization Essentials
URL:https://global.hsmai.org/event/hotel-revenue-optimization-essentials-61/
LOCATION:Online Web Series\, NA
CATEGORIES:Nationalevents
END:VEVENT
BEGIN:VEVENT
DTSTART;VALUE=DATE:20241112
DTEND;VALUE=DATE:20241113
DTSTAMP:20260421T082623
CREATED:20240828T072932Z
LAST-MODIFIED:20241112T193025Z
UID:10001524-1731369600-1731455999@global.hsmai.org
SUMMARY:CHSL Review Course
DESCRIPTION:Come to Washington\, DC and leave with your CHSL certification
URL:https://global.hsmai.org/event/chsl-review-course/
LOCATION:Washington\, DC\, United States
CATEGORIES:Nationalevents
END:VEVENT
BEGIN:VEVENT
DTSTART;VALUE=DATE:20241105
DTEND;VALUE=DATE:20241210
DTSTAMP:20260421T082623
CREATED:20240910T091530Z
LAST-MODIFIED:20241105T184053Z
UID:10001541-1730764800-1733788799@global.hsmai.org
SUMMARY:Hotel Digital Marketing Essentials
DESCRIPTION:Hotel Digital Marketing Essentials
URL:https://global.hsmai.org/event/hotel-digital-marketing-essentials-46/
LOCATION:Online Web Series\, NA
CATEGORIES:Nationalevents
END:VEVENT
BEGIN:VEVENT
DTSTART;VALUE=DATE:20240924
DTEND;VALUE=DATE:20241029
DTSTAMP:20260421T082623
CREATED:20240730T021403Z
LAST-MODIFIED:20240924T115719Z
UID:10001491-1727136000-1730159999@global.hsmai.org
SUMMARY:Hotel Revenue Optimization Essentials
DESCRIPTION:Hotel Revenue Optimization Essentials
URL:https://global.hsmai.org/event/hotel-revenue-optimization-essentials-60/
LOCATION:Online Web Series\, NA
CATEGORIES:Nationalevents
END:VEVENT
BEGIN:VEVENT
DTSTART;VALUE=DATE:20240917
DTEND;VALUE=DATE:20241022
DTSTAMP:20260421T082623
CREATED:20240723T010022Z
LAST-MODIFIED:20240917T104504Z
UID:10001489-1726531200-1729555199@global.hsmai.org
SUMMARY:Hotel Digital Marketing Essentials
DESCRIPTION:Hotel Digital Marketing Essentials
URL:https://global.hsmai.org/event/hotel-digital-marketing-essentials-39/
LOCATION:Online Web Series\, NA
CATEGORIES:Nationalevents
END:VEVENT
BEGIN:VEVENT
DTSTART;VALUE=DATE:20240806
DTEND;VALUE=DATE:20240910
DTSTAMP:20260421T082623
CREATED:20240611T181120Z
LAST-MODIFIED:20240806T034141Z
UID:10001450-1722902400-1725926399@global.hsmai.org
SUMMARY:Hotel Revenue Optimization Essentials
DESCRIPTION:Hotel Revenue Optimization Essentials
URL:https://global.hsmai.org/event/hotel-revenue-optimization-essentials-59/
LOCATION:Online Web Series\, NA
CATEGORIES:Nationalevents
END:VEVENT
BEGIN:VEVENT
DTSTART;VALUE=DATE:20240625
DTEND;VALUE=DATE:20240626
DTSTAMP:20260421T082623
CREATED:20240327T072812Z
LAST-MODIFIED:20240625T192711Z
UID:10001406-1719273600-1719359999@global.hsmai.org
SUMMARY:HSMAI Commercial Strategy Conference
DESCRIPTION:HSMAI Commercial Strategy Conference
URL:https://global.hsmai.org/event/hsmai-commercial-strategy-conference/
LOCATION:Charlotte\, NC
CATEGORIES:Nationalevents
END:VEVENT
BEGIN:VEVENT
DTSTART;VALUE=DATE:20240624
DTEND;VALUE=DATE:20240625
DTSTAMP:20260421T082623
CREATED:20240326T072853Z
LAST-MODIFIED:20240624T191522Z
UID:10001404-1719187200-1719273599@global.hsmai.org
SUMMARY:CRME Review Course
DESCRIPTION:Come to Charlotte and leave with your CRME certification
URL:https://global.hsmai.org/event/crme-review-course-9/
LOCATION:Charlotte\, NC
CATEGORIES:Nationalevents
END:VEVENT
BEGIN:VEVENT
DTSTART;VALUE=DATE:20240624
DTEND;VALUE=DATE:20240625
DTSTAMP:20260421T082623
CREATED:20240326T072853Z
LAST-MODIFIED:20240624T191522Z
UID:10001405-1719187200-1719273599@global.hsmai.org
SUMMARY:Partner Insights Workshops
DESCRIPTION:Partner Insights Workshops are 50-minute sessions designed to help you make the most of your travel to Toronto. They offer an extra 1/2 day of learning brought to you by HSMAIu2019s partners.
URL:https://global.hsmai.org/event/partner-insights-workshops/
LOCATION:Charlotte\, NC
CATEGORIES:Nationalevents
END:VEVENT
BEGIN:VEVENT
DTSTART;VALUE=DATE:20240624
DTEND;VALUE=DATE:20240625
DTSTAMP:20260421T082623
CREATED:20240326T072852Z
LAST-MODIFIED:20240624T191522Z
UID:10001403-1719187200-1719273599@global.hsmai.org
SUMMARY:CHDM Review Course
DESCRIPTION:CHDM Review Course
URL:https://global.hsmai.org/event/chdm-review-course-10/
LOCATION:Charlotte\, NC
CATEGORIES:Nationalevents
END:VEVENT
BEGIN:VEVENT
DTSTART;VALUE=DATE:20240507
DTEND;VALUE=DATE:20240611
DTSTAMP:20260421T082623
CREATED:20240312T044459Z
LAST-MODIFIED:20240507T122935Z
UID:10001392-1715040000-1718063999@global.hsmai.org
SUMMARY:Hotel Revenue Optimization Essentials
DESCRIPTION:Hotel Revenue Optimization Essentials
URL:https://global.hsmai.org/event/hotel-revenue-optimization-essentials-58/
LOCATION:Online Web Series\, NA
CATEGORIES:Nationalevents
END:VEVENT
END:VCALENDAR