BEGIN:VCALENDAR
VERSION:2.0
PRODID:-//HSMAI Global - ECPv6.15.20//NONSGML v1.0//EN
CALSCALE:GREGORIAN
METHOD:PUBLISH
X-WR-CALNAME:HSMAI Global
X-ORIGINAL-URL:https://global.hsmai.org
X-WR-CALDESC:Events for HSMAI Global
REFRESH-INTERVAL;VALUE=DURATION:PT1H
X-Robots-Tag:noindex
X-PUBLISHED-TTL:PT1H
BEGIN:VTIMEZONE
TZID:UTC
BEGIN:STANDARD
TZOFFSETFROM:+0000
TZOFFSETTO:+0000
TZNAME:UTC
DTSTART:20250101T000000
END:STANDARD
END:VTIMEZONE
BEGIN:VEVENT
DTSTART;VALUE=DATE:20260415
DTEND;VALUE=DATE:20260513
DTSTAMP:20260424T112658
CREATED:20260211T145644Z
LAST-MODIFIED:20260411T214038Z
UID:10001979-1776211200-1778630399@global.hsmai.org
SUMMARY:Certified in Hospitality Business Acumen
DESCRIPTION:Instructor-led Certified in Hospitality Business Acumen Course
URL:https://global.hsmai.org/event/certified-in-hospitality-business-acumen-6/
LOCATION:Online Web Series\, NA
CATEGORIES:Nationalevents
END:VEVENT
END:VCALENDAR