BEGIN:VCALENDAR
VERSION:2.0
PRODID:-//HSMAI Global - ECPv6.15.20//NONSGML v1.0//EN
CALSCALE:GREGORIAN
METHOD:PUBLISH
X-ORIGINAL-URL:https://global.hsmai.org
X-WR-CALDESC:Events for HSMAI Global
REFRESH-INTERVAL;VALUE=DURATION:PT1H
X-Robots-Tag:noindex
X-PUBLISHED-TTL:PT1H
BEGIN:VTIMEZONE
TZID:Asia/Bangkok
BEGIN:STANDARD
TZOFFSETFROM:+0700
TZOFFSETTO:+0700
TZNAME:+07
DTSTART:20230101T000000
END:STANDARD
END:VTIMEZONE
BEGIN:VEVENT
DTSTART;TZID=Asia/Bangkok:20241129T163000
DTEND;TZID=Asia/Bangkok:20241129T193000
DTSTAMP:20260419T093942
CREATED:20240824T044322Z
LAST-MODIFIED:20241129T195940Z
UID:10001521-1732897800-1732908600@global.hsmai.org
SUMMARY:POWER-UP EDUCATION & NETWORKING BANGKOK
DESCRIPTION:[vc_row][vc_column][mk_image src=”https://hsmaiasia.org/wp-content/uploads/sites/12/2023/12/bkk-pu-mar-2025-landscape-banner-7-scaled.jpg” image_size=”full” frame_style=”single_line” align=”center”][vc_empty_space][vc_custom_heading text=”POWER-UP EDUCATION & NETWORKING BANGKOK” font_container=”tag:h5|font_size:27|text_align:center|color:%2352247f” use_theme_fonts=”yes” css=””][vc_custom_heading text=”Friday 29 November\, 2024″ font_container=”tag:h5|font_size:23|text_align:center|color:%2352247f” use_theme_fonts=”yes” css=””][vc_column_text css=”.vc_custom_1730860641231{margin-bottom: 0px !important;}”] \nRegistration: 3:45pm | Event: 4:30pm – 7:30pm \nHSMAI PowerUp is an HSMAI Asia Pacific casual Education & Networking event series for those working in commercial roles in hotels to connect\, learn\, and build their professional networks. \nThis is a great opportunity for marketing /digital / revenue / sales / distribution staff from corporate offices and individual hotel commercial teams to meet in a casual\, yet informative\, engaging\, and meaningful way. \nThe format for the event is 1-hour Education and 1.5 hours Networking. 🥂 \nJoin us for a unique opportunity to meet your peers and engage with hotel leaders. \n[/vc_column_text][/vc_column][/vc_row][vc_row][vc_column][vc_empty_space][mk_image src=”https://hsmaiasia.org/wp-content/uploads/sites/12/2023/06/website-banner-why-attend-commconf.png” image_size=”large”][mk_image src=”https://hsmaiasia.org/wp-content/uploads/sites/12/2023/12/bkpu-montage-aug-2.jpg” image_size=”large”][vc_empty_space height=”50″][/vc_column][/vc_row][vc_row][vc_column width=”1/2″][vc_custom_heading text=”AGENDA” font_container=”tag:h2|text_align:center|color:%2352247f” use_theme_fonts=”yes” css=””][vc_tta_accordion title_tag=”p” section_title_tag=”h5″ style=”flat” color=”green” spacing=”1″ gap=”10″ c_icon=”” active_section=”0″ no_fill=”true” collapsible_all=”true”][vc_tta_section title=”Welcome” tab_id=”1707754680050-fab22c56-3858″][vc_row_inner][vc_column_inner width=”1/2″][/vc_column_inner][vc_column_inner width=”1/2″][mk_employees column=”1″ rounded_image=”false” grayscale_image=”false” count=”1″ employees=”37620″][/vc_column_inner][/vc_row_inner][/vc_tta_section][vc_tta_section title=”Thailand Market Performance and Outlook” tab_id=”1708793444841-ccdc3b73-fc5e”][vc_row_inner][vc_column_inner][vc_column_text css=”.vc_custom_1732688881900{margin-bottom: 0px !important;}”]Take a brief deep dive with Lighthouse into the number trends and outlook for the Thailand market\, with a focus on Bangkok\, and get familiar with how Thailand is performing and what’s to come. \n– Flight Search Evolution by Outbound Country\n– China to Thailand search rank in Asia\n– India to Thailand search rank in Asia\n– Hotel Search Evolution\n– Market Heat Map – Thailand and Bangkok\n– Thailand Hotel Pricing: 2023 vs 2024\n– Thailand Hotel Price by Class\n– Trailing Twelve Months Historical Pricing\n– Bangkok Hotel Price Changes\n– Booking Lead Time and its impact on pricing\n– Booking Trends: LOS 2\, LOS 3\, Mobile discounts[/vc_column_text][mk_employees column=”2″ rounded_image=”false” grayscale_image=”false” count=”2″ description=”false” employees=”37280″][/vc_column_inner][/vc_row_inner][/vc_tta_section][vc_tta_section title=”Key Source Market Trends – China\, India” tab_id=”1707755124248-16ec701e-c77e”][vc_row_inner][vc_column_inner][vc_column_text css=”.vc_custom_1732689183438{margin-bottom: 0px !important;}”]Uncover key insights with Derbysoft into Thailand’s top source markets\, China and India\, and see how these trends will shape the country’s tourism landscape going forward. \n– Skift Healthscore Index\n– Inbound Visitors Overview\n– Chinese Traveler Overview\n– Chinese Travelers Booking Windows\n– Demand Drivers – Concerts\n– Indian Traveler Overview\n– Indian Traveler Booking Windows\n– Demand Drivers – Weddings & Movie Shoots\n– Future Outlook[/vc_column_text][mk_employees column=”2″ rounded_image=”false” grayscale_image=”false” count=”2″ employees=”30309″][/vc_column_inner][/vc_row_inner][/vc_tta_section][vc_tta_section title=”Turning Clicks into Stays: How Hotels Can Drive Direct Bookings Through Digital Channels” tab_id=”1707754680068-5de22ca9-9a39″][vc_row_inner][vc_column_inner width=”2/3″][vc_column_text css=”.vc_custom_1732262704663{margin-bottom: 0px !important;}”]In an increasingly competitive hospitality landscape\, maximizing direct bookings is essential for reducing dependency on third-party platforms and building stronger guest relationships. This session will explore innovative strategies and practical tools hotels can use to optimize digital channels\, including their website\, social media\, and email marketing. Discover how to leverage data-driven insights\, personalized guest experiences\, and the latest digital trends to convert online engagement into confirmed stays. Learn from industry success stories and actionable techniques to turn every click into a valuable booking.[/vc_column_text][/vc_column_inner][vc_column_inner width=”1/3″][mk_employees column=”1″ rounded_image=”false” grayscale_image=”false” count=”1″ employees=”37363″][/vc_column_inner][/vc_row_inner][/vc_tta_section][vc_tta_section title=”Motivational Speaker: How to Master Personal Professional Growth” tab_id=”1721796792026-44af3c1f-2244″][vc_row_inner][vc_column_inner][vc_single_image image=”37365″ img_size=”large” alignment=”center” css=””][vc_column_text css=”.vc_custom_1731641181148{margin-bottom: 0px !important;}”]• Cultivating a Growth Mindset\n• Meeting Our Future Selves\n• Growth Lies Outside the Comfort Zone\n• Embracing Challenges as Catalysts for Growth\n• Flourishing Instead of Just Surviving\n• Perception Shapes Our Reality\n• Our Words Become Our World\n• Starting Each Day in Our Favor\n• A Candle Doesn’t Lose its Flame by Sharing its Light with Another[/vc_column_text][/vc_column_inner][/vc_row_inner][/vc_tta_section][vc_tta_section title=”Panel: How to Accelerate your Commercial Career in 2025″ tab_id=”1730777662682-a9c90e71-68f4″][vc_row_inner][vc_column_inner][mk_employees column=”2″ rounded_image=”false” grayscale_image=”false” count=”2″ description=”false” employees=”31633\, 24482″][mk_employees column=”2″ rounded_image=”false” grayscale_image=”false” count=”2″ description=”false” employees=”37553\, 37502″][mk_employees column=”2″ rounded_image=”false” grayscale_image=”false” count=”2″ description=”false” employees=”37564″][/vc_column_inner][/vc_row_inner][/vc_tta_section][vc_tta_section title=”Speed-Friending and Drinks” tab_id=”1707755165108-1ce754a3-1930″][vc_single_image image=”37279″ img_size=”medium” alignment=”center” css=””][/vc_tta_section][vc_tta_section title=”Open Networking and Drinks & Canapés” tab_id=”1707754802647-7d296b8e-7347″][vc_single_image image=”37278″ img_size=”medium” alignment=”center” css=””][/vc_tta_section][/vc_tta_accordion][/vc_column][vc_column width=”1/2″][/vc_column][/vc_row][vc_row][vc_column][vc_empty_space][vc_custom_heading text=”PARTNERS” font_container=”tag:h2|font_size:40|text_align:center|color:%2352247f” use_theme_fonts=”yes” css=””][/vc_column][/vc_row][vc_row][vc_column width=”1/3″][mk_employees column=”1″ rounded_image=”false” grayscale_image=”false” count=”1″ description=”false” name_color=”#ffffff” position_color=”#ffffff” about_color=”#ffffff” social_color=”#ffffff” employees=”25770″][/vc_column][vc_column width=”1/3″][mk_employees column=”1″ rounded_image=”false” grayscale_image=”false” count=”1″ description=”false” name_color=”#ffffff” position_color=”#ffffff” about_color=”#ffffff” social_color=”#ffffff” employees=”2872″][/vc_column][vc_column width=”1/3″][mk_employees column=”1″ rounded_image=”false” grayscale_image=”false” count=”1″ description=”false” name_color=”#ffffff” position_color=”#ffffff” about_color=”#ffffff” social_color=”#ffffff” employees=”24139″][/vc_column][/vc_row]
URL:https://global.hsmai.org/event/power-up-education-networking-bangkok-6/
LOCATION:Venue to be Advised – Thailand
CATEGORIES:Chapter Events,Networking
ATTACH;FMTTYPE=image/jpeg:https://global.hsmai.org/wp-content/uploads/2024/10/pubk-nov-2024-1-scaled-77mfQo.tmp_.jpg
END:VEVENT
BEGIN:VEVENT
DTSTART;TZID=Asia/Bangkok:20240828T163000
DTEND;TZID=Asia/Bangkok:20240828T190000
DTSTAMP:20260419T093942
CREATED:20240511T062621Z
LAST-MODIFIED:20240828T051424Z
UID:10001434-1724862600-1724871600@global.hsmai.org
SUMMARY:Power-Up Education & Networking – Bangkok
DESCRIPTION:[vc_row][vc_column][vc_empty_space][mk_image src=”https://hsmaiasia.org/wp-content/uploads/sites/12/2023/12/bkpu-landscape-banner-with-venue-border.jpg” image_size=”full” align=”center”][vc_empty_space][vc_column_text css=”.vc_custom_1721792699499{margin-bottom: 0px !important;}”] \nWednesday 28 August\, 2024 \nRegistration: from 3:50pm | Event: 4:30pm – 7:30pm \nHSMAI PowerUp is an HSMAI Asia Pacific casual Education & Networking event series for those working in commercial roles in hotels to connect\, learn\, and build their professional networks. \nThis is a great opportunity for marketing /digital / revenue / sales / distribution staff from corporate offices and individual hotel commercial teams to meet in a casual\, yet informative\, engaging\, and meaningful way. \nThe format for the event is a mix of easy Education and enjoyable Networking. 🥂 \nJoin us for a unique opportunity to meet your peers and engage with hotel leaders. \n[/vc_column_text][/vc_column][/vc_row][vc_row][vc_column][mk_image src=”https://hsmaiasia.org/wp-content/uploads/sites/12/2023/06/website-banner-why-attend-commconf.png” image_size=”large” align=”center”][vc_empty_space][mk_image src=”https://hsmaiasia.org/wp-content/uploads/sites/12/2023/12/pu-bkk-montage-hires.png” image_size=”full” align=”center”][vc_empty_space height=”40″][/vc_column][/vc_row][vc_row][vc_column width=”1/2″][vc_custom_heading text=”AGENDA” font_container=”tag:h2|text_align:center|color:%2352247f” use_theme_fonts=”yes” css=””][vc_tta_accordion title_tag=”p” section_title_tag=”h5″ style=”flat” color=”green” spacing=”1″ gap=”10″ c_icon=”” active_section=”0″ no_fill=”true” collapsible_all=”true”][vc_tta_section title=”Welcome” tab_id=”1707754680050-fab22c56-3858″][mk_employees column=”2″ rounded_image=”false” grayscale_image=”false” count=”2″ description=”false” employees=”24620\, 35055″][/vc_tta_section][vc_tta_section title=”Thailand Market Performance and Outlook” tab_id=”1707755124248-16ec701e-c77e”][vc_row_inner][vc_column_inner][vc_column_text css=”.vc_custom_1722323761817{margin-bottom: 0px !important;}”]The role of hotel commercials has long gone beyond being just sales or marketing experts. Teams are at the frontline of the business and it has now become crucial to master a 360° understanding of the demand dynamics\, in order to maximize the right markets through the most effective channels – and as fast as possible. Our goal is to activate business sources in a way that operational teams can grow and maintain profitable business. This works together with a full collaboration from all departments to support business optimization. Because not only revenues need to be optimized\, but also costs\, in order to achieve the most profit returns.[/vc_column_text][mk_employees column=”2″ rounded_image=”false” grayscale_image=”false” count=”2″ description=”false” order=”ASC” employees=”35314\, 35240″][/vc_column_inner][/vc_row_inner][/vc_tta_section][vc_tta_section title=”Social Media Content – What’s Trending\, What’s Working” tab_id=”1708793444841-ccdc3b73-fc5e”][vc_row_inner][vc_column_inner width=”1/2″][vc_column_text css=”.vc_custom_1724731598447{margin-bottom: 0px !important;}”]Get ready for an insightful session exploring social media and what’s trending and working at the top of the digital marketing funnel – awareness and interest. From viral videos to interactive stories that draw users in\, we’ll show you how you can use these insights to boost your social media presence. Whether you’re a seasoned pro or just starting out\, you’ll walk away with practical tips and a fresh perspective to take your content strategy to the next level.[/vc_column_text][/vc_column_inner][vc_column_inner width=”1/2″][mk_employees column=”1″ rounded_image=”false” grayscale_image=”false” count=”1″ description=”false” employees=”31613″][/vc_column_inner][/vc_row_inner][/vc_tta_section][vc_tta_section title=”Digital Marketing Creatives that Drive Conversion” tab_id=”1707754680068-5de22ca9-9a39″][vc_row_inner][vc_column_inner width=”1/2″][vc_column_text css=”.vc_custom_1721882794213{margin-bottom: 0px !important;}”]Learn how to craft a winning creative strategy to drive conversions.[/vc_column_text][/vc_column_inner][vc_column_inner width=”1/2″][mk_employees column=”1″ rounded_image=”false” grayscale_image=”false” count=”1″ description=”false” employees=”31613″][/vc_column_inner][/vc_row_inner][/vc_tta_section][vc_tta_section title=”Inspiring Marketing Team Creativity: Crafting Compelling Social Media Content” tab_id=”1721796792026-44af3c1f-2244″][vc_column_text css=”.vc_custom_1722583926903{margin-bottom: 0px !important;}”]We are all blessed to be working in digital marketing today\, with so many great software content creation tools (now supercharged with a plethora of AI assist) and low cost social media platforms to generate attention/ awareness/ engagement\, and accurate analytics to track and measure our impact. \nBut with so many tools/ processes/ platforms/ analytics\, how can we tap into creativity\, think outside the box\, innovate our approach (on the fly!)\, and develop content/ content strategies that achieve better success. \nCatch our dynamic industry expert panel for an illuminating discussion on that elusive (and sometimes underrated) non-measurable key ingredient behind any great marketing success – creativity![/vc_column_text][mk_employees column=”2″ rounded_image=”false” grayscale_image=”false” description=”false” employees=”35055\, 35777″][mk_employees column=”2″ rounded_image=”false” grayscale_image=”false” description=”false” employees=”35245\, 35242″][/vc_tta_section][vc_tta_section title=”Speed-Friending and Drinks” tab_id=”1707755165108-1ce754a3-1930″][vc_single_image image=”31621″ img_size=”medium” alignment=”center”][/vc_tta_section][vc_tta_section title=”Open Networking and Drinks & Canapés” tab_id=”1707754802647-7d296b8e-7347″][vc_single_image image=”31620″ img_size=”medium” alignment=”center”][/vc_tta_section][/vc_tta_accordion][vc_custom_heading text=”VENUE” font_container=”tag:h2|text_align:center|color:%2352247f” use_theme_fonts=”yes” css=””][vc_column_text css=”.vc_custom_1721012651145{margin-bottom: 0px !important;}”] \n137 Pillars Suites & Residences Bangkok \n59/1 Soi Sukhumvit 39\, Khlong Tan Nuea\, Watthana\, \nBangkok 10110\, Thailand \n[/vc_column_text][/vc_column][vc_column width=”1/2″][vc_row_inner css=”.vc_custom_1711012322698{background-color: #ffffff !important;}”][vc_column_inner][vc_custom_heading text=”REGISTRATION” font_container=”tag:h2|text_align:center|color:%2352247f” use_theme_fonts=”yes” css=””][/vc_column_inner][/vc_row_inner][vc_btn title=”Contact Us for Enquiries” style=”custom” custom_background=”#52247f” custom_text=”#ffffff” align=”center” css=”” link=”url:mailto%3Ainfo%40hsmai-asia.org|target:_blank” el_class=”get_my_copy”][/vc_column][/vc_row][vc_row][vc_column][vc_empty_space height=”50″][vc_custom_heading text=”PREVIOUS EVENT GALLERY” font_container=”tag:h2|text_align:center|color:%2352247f” use_theme_fonts=”yes” css=””][vc_images_carousel images=”34907\,34908\,34909\,34910\,34911\,34912\,34913\,34914\,34915\,34916\,34917\,34918\,34919\,34920\,34921\,34922\,34923\,34924\,34925\,34926\,34927\,34928\,34929\,34930\,34931\,34932\,34933\,34934\,34935\,34936\,34937\,34938\,34939\,34940\,34941\,34942\,34943\,34944\,34945\,34946\,34947\,34948\,34949\,34950\,34951\,34952\,34953\,34954\,34955\,34956\,34957\,34958\,34959\,34960\,34961\,34962\,34963\,34964\,34965\,34966\,34967\,34968\,34969\,34970\,34971\,34972\,34973\,34974\,34975\,34976\,34977\,34978\,34979\,34980\,34981\,34982\,34983\,34984\,34985\,34986\,34987\,34988\,34989\,34990\,34991\,34992\,34993\,34994\,34995\,34996\,34997\,34998\,34999\,35000\,35001\,35002\,35003″ img_size=”1200X800″ speed=”3000″ slides_per_view=”3″ autoplay=”yes” hide_pagination_control=”yes” wrap=”yes” css=””][/vc_column][/vc_row][vc_row disable_element=”yes”][vc_column][vc_btn title=”VIEW EVENT GALLERY” style=”custom” custom_background=”#52247f” custom_text=”#ffffff” align=”center” link=”url:https%3A%2F%2Fwww.saffronasiamedia.com%2Fhsmai-power-up-20-03-24|target:_blank” el_class=”get_my_copy”][vc_empty_space][vc_custom_heading text=”SPEAKERS” font_container=”tag:h2|font_size:40|text_align:center|color:%2352247f” use_theme_fonts=”yes”][mk_employees rounded_image=”false” grayscale_image=”false” description=”false” employees=”24620\, 3739\, 24490\, 31613\, 24482\, 31633\, 31637″][vc_custom_heading text=”PARTNERS” font_container=”tag:h2|font_size:40|text_align:center|color:%2352247f” use_theme_fonts=”yes”][vc_row_inner disable_element=”yes” css=”.vc_custom_1716436326574{background-color: #ffffff !important;}”][vc_column_inner][vc_custom_heading text=”DOWNLOADS & PHOTOS” font_container=”tag:h2|text_align:center|color:%2352247f” use_theme_fonts=”yes” css=””][mk_table] \n\n\n\n\n\nCatalysts for Change\n\n\nEdward Wright\, CMP\n\n\nDownload\n\n\n\n\nElevate Direct Bookings with Data-Driven Digital Marketing Strategies\n\n\nCharithya Kandage\n\n\nDownload\n\n\n\n\n[/mk_table][vc_empty_space height=”150″][vc_single_image image=”31728″ img_size=”large” alignment=”center”][vc_empty_space height=”10″][/vc_column_inner][/vc_row_inner][mk_employees column=”2″ rounded_image=”false” grayscale_image=”false” count=”2″ description=”false” employees=”30911\, 24163″][/vc_column][/vc_row]
URL:https://global.hsmai.org/event/power-up-education-networking-bangkok-5/
LOCATION:Venue to be Advised – Thailand
CATEGORIES:Chapter Events,Networking
ATTACH;FMTTYPE=image/jpeg:https://global.hsmai.org/wp-content/uploads/2024/05/pu_2024_thailand_aug28-lRvIny.tmp_.jpg
END:VEVENT
BEGIN:VEVENT
DTSTART;TZID=Asia/Bangkok:20240320T170000
DTEND;TZID=Asia/Bangkok:20240320T193000
DTSTAMP:20260419T093942
CREATED:20231214T045859Z
LAST-MODIFIED:20240320T224326Z
UID:10001315-1710954000-1710963000@global.hsmai.org
SUMMARY:Power-Up Education & Networking – Bangkok
DESCRIPTION:[vc_row][vc_column][vc_empty_space][mk_image src=”https://hsmaiasia.org/wp-content/uploads/sites/12/2023/12/powerup-bangkok-2024-3-scaled.jpg” image_size=”full” frame_style=”single_line” align=”center”][vc_empty_space][vc_custom_heading text=”POWER-UP EDUCATION & NETWORKING BANGKOK” font_container=”tag:h2|font_size:40|text_align:center|color:%2352247f” use_theme_fonts=”yes”][vc_column_text css=”.vc_custom_1705393421329{margin-bottom: 0px !important;}”] \nWednesday 20 March\, 2024 \nRegistration: from 4:20pm | Event: 5:00pm – 7:30pm \nHSMAI PowerUp is an HSMAI Asia Pacific casual Education & Networking event series for those working in commercial roles in hotels to connect\, learn\, and build their professional networks. \nThis is a great opportunity for marketing /digital / revenue / sales / distribution staff from corporate offices and individual hotel commercial teams to meet in a casual\, yet informative\, engaging\, and meaningful way. \nThe format for the event is 1-hour Education and 1.5 hours Networking. 🥂 \nJoin us for a unique opportunity to meet your peers and engage with hotel leaders. \n[/vc_column_text][/vc_column][/vc_row][vc_row][vc_column][mk_image src=”https://hsmaiasia.org/wp-content/uploads/sites/12/2023/06/website-banner-why-attend-commconf.png” image_size=”large”][vc_empty_space][/vc_column][/vc_row][vc_row][vc_column width=”1/2″][vc_tta_accordion title_tag=”p” section_title_tag=”h5″ style=”flat” color=”green” spacing=”1″ gap=”10″ c_icon=”” active_section=”0″ no_fill=”true” collapsible_all=”true”][vc_tta_section title=”Welcome & HSMAI Update” tab_id=”1707754680050-fab22c56-3858″][mk_employees column=”2″ rounded_image=”false” grayscale_image=”false” count=”2″ description=”false” employees=”24620\, 3739″][/vc_tta_section][vc_tta_section title=”Catalysts for Change” tab_id=”1707755124248-16ec701e-c77e”][vc_row_inner][vc_column_inner width=”2/3″][vc_column_text css=”.vc_custom_1708793682099{margin-bottom: 0px !important;}”]Traveller expectations have changed over the past four years – the hospitality industry of 2023 is not that of 2019. Today\, personalization\, flexibility\, and sustainable journeys supported by modern digital tools to remove friction sit at the top of traveller’s wish lists. We will explore how the industry will be able to deliver on these expectations.[/vc_column_text][/vc_column_inner][vc_column_inner width=”1/3″][mk_employees column=”1″ rounded_image=”false” grayscale_image=”false” count=”1″ description=”false” employees=”24490″][/vc_column_inner][/vc_row_inner][/vc_tta_section][vc_tta_section title=”Transforming Hospitality Sales” tab_id=”1708793444841-ccdc3b73-fc5e”][vc_column_text css=”.vc_custom_1707755159657{margin-bottom: 0px !important;}”] \nA spotlight discussion on the complimentary roles of traditional sales skills and digital tools in creating a more personalised\, efficient\, and effective sales process. \n[/vc_column_text][mk_employees rounded_image=”false” grayscale_image=”false” count=”3″ employees=”31637\, 24482\, 31633″][/vc_tta_section][vc_tta_section title=”Elevate Direct Bookings with Data-Driven Digital Marketing Strategies” tab_id=”1707754680068-5de22ca9-9a39″][vc_row_inner][vc_column_inner width=”2/3″][vc_column_text css=”.vc_custom_1707892048648{margin-bottom: 0px !important;}”]In the rapidly changing landscape of the travel industry\, it is crucial to utilize data-driven digital marketing strategies. This approach is imperative for capitalizing on current traveler trends\, ultimately boosting bookings and revenue\, surpassing Online Travel Agencies (OTAs) and gaining a competitive edge. By consistently analyzing data and implementing initiatives such as hyper-personalized campaigns\, cross-channel integration\, and conversion point optimization\, hotels can effectively tap into potential customers and drive growth in bookings and revenue.[/vc_column_text][/vc_column_inner][vc_column_inner width=”1/3″][mk_employees column=”1″ rounded_image=”false” grayscale_image=”false” count=”1″ employees=”31613″][/vc_column_inner][/vc_row_inner][/vc_tta_section][vc_tta_section title=”Speed-Friending and Drinks” tab_id=”1707755165108-1ce754a3-1930″][vc_single_image image=”31621″ img_size=”medium” alignment=”center”][/vc_tta_section][vc_tta_section title=”Networking and Drinks & Canapes” tab_id=”1707754802647-7d296b8e-7347″][vc_single_image image=”31620″ img_size=”medium” alignment=”center”][/vc_tta_section][/vc_tta_accordion][vc_custom_heading text=”VENUE” font_container=”tag:h2|text_align:center|color:%2352247f” use_theme_fonts=”yes”][vc_column_text css=”.vc_custom_1707906129597{margin-bottom: 0px !important;}”] \nMövenpick BDMS Wellness Resort Bangkok \n2 Witthayu Rd\, Khwaeng Lumphini\, Pathum Wan\, Krung Thep Maha Nakhon 10330\, Thailand \n[/vc_column_text][/vc_column][vc_column width=”1/2″][vc_custom_heading text=”PHOTO GALLERY”][vc_gallery interval=”3″ img_size=”medium”][/vc_column][/vc_row][vc_row][vc_column][vc_empty_space][vc_custom_heading text=”SPEAKERS” font_container=”tag:h2|font_size:40|text_align:center|color:%2352247f” use_theme_fonts=”yes”][mk_employees rounded_image=”false” grayscale_image=”false” description=”false” employees=”24620\, 3739\, 24490\, 31613\, 24482\, 31633\, 31637″][vc_custom_heading text=”PARTNERS” font_container=”tag:h2|font_size:40|text_align:center|color:%2352247f” use_theme_fonts=”yes”][mk_employees column=”2″ rounded_image=”false” grayscale_image=”false” count=”2″ description=”false” employees=”30911\, 24163″][/vc_column][/vc_row]
URL:https://global.hsmai.org/event/power-up-education-networking-bangkok-4/
LOCATION:Venue to be Advised – Thailand
CATEGORIES:Chapter Events,Networking
ATTACH;FMTTYPE=image/jpeg:https://global.hsmai.org/wp-content/uploads/2023/12/pu_2024_thailand_mar13-2-SFzytc.tmp_.jpg
ORGANIZER;CN="HSMAI Thailand":MAILTO:info@hsmai-asia.org
END:VEVENT
END:VCALENDAR